BEGIN:VCALENDAR
VERSION:2.0
PRODID:-//Netzwerk Friedenssteuer - ECPv6.15.20//NONSGML v1.0//EN
CALSCALE:GREGORIAN
METHOD:PUBLISH
X-ORIGINAL-URL:https://netzwerk-friedenssteuer.de
X-WR-CALDESC:Veranstaltungen für Netzwerk Friedenssteuer
REFRESH-INTERVAL;VALUE=DURATION:PT1H
X-Robots-Tag:noindex
X-PUBLISHED-TTL:PT1H
BEGIN:VTIMEZONE
TZID:Europe/Berlin
BEGIN:DAYLIGHT
TZOFFSETFROM:+0100
TZOFFSETTO:+0200
TZNAME:CEST
DTSTART:20250330T010000
END:DAYLIGHT
BEGIN:STANDARD
TZOFFSETFROM:+0200
TZOFFSETTO:+0100
TZNAME:CET
DTSTART:20251026T010000
END:STANDARD
BEGIN:DAYLIGHT
TZOFFSETFROM:+0100
TZOFFSETTO:+0200
TZNAME:CEST
DTSTART:20260329T010000
END:DAYLIGHT
BEGIN:STANDARD
TZOFFSETFROM:+0200
TZOFFSETTO:+0100
TZNAME:CET
DTSTART:20261025T010000
END:STANDARD
BEGIN:DAYLIGHT
TZOFFSETFROM:+0100
TZOFFSETTO:+0200
TZNAME:CEST
DTSTART:20270328T010000
END:DAYLIGHT
BEGIN:STANDARD
TZOFFSETFROM:+0200
TZOFFSETTO:+0100
TZNAME:CET
DTSTART:20271031T010000
END:STANDARD
END:VTIMEZONE
BEGIN:VEVENT
DTSTART;VALUE=DATE:20260904
DTEND;VALUE=DATE:20260907
DTSTAMP:20260420T190242
CREATED:20260414T171823Z
LAST-MODIFIED:20260414T181643Z
UID:5706-1788480000-1788739199@netzwerk-friedenssteuer.de
SUMMARY:18th Internat. Conference on War Tax resistance & Peace Tax Campaigns
DESCRIPTION:Die Interntationale Konferenz von CPTI findet vom 4. – 6. September in Brüssel statt. \nKomtakt: <mailto:k.waiditschka@friedenssteuer.de>
URL:https://netzwerk-friedenssteuer.de/event/18th-internat-conference-on-war-tax-resistance-peace-tax-campaigns/
CATEGORIES:Internationale Tagung
END:VEVENT
END:VCALENDAR